BEGIN:VCALENDAR
VERSION:2.0
PRODID:-//USIPlus - ECPv6.15.20//NONSGML v1.0//EN
CALSCALE:GREGORIAN
METHOD:PUBLISH
X-ORIGINAL-URL:http://britter.de
X-WR-CALDESC:Veranstaltungen für USIPlus
REFRESH-INTERVAL;VALUE=DURATION:PT1H
X-Robots-Tag:noindex
X-PUBLISHED-TTL:PT1H
BEGIN:VTIMEZONE
TZID:Europe/Berlin
BEGIN:DAYLIGHT
TZOFFSETFROM:+0100
TZOFFSETTO:+0200
TZNAME:CEST
DTSTART:20250330T010000
END:DAYLIGHT
BEGIN:STANDARD
TZOFFSETFROM:+0200
TZOFFSETTO:+0100
TZNAME:CET
DTSTART:20251026T010000
END:STANDARD
BEGIN:DAYLIGHT
TZOFFSETFROM:+0100
TZOFFSETTO:+0200
TZNAME:CEST
DTSTART:20260329T010000
END:DAYLIGHT
BEGIN:STANDARD
TZOFFSETFROM:+0200
TZOFFSETTO:+0100
TZNAME:CET
DTSTART:20261025T010000
END:STANDARD
BEGIN:DAYLIGHT
TZOFFSETFROM:+0100
TZOFFSETTO:+0200
TZNAME:CEST
DTSTART:20270328T010000
END:DAYLIGHT
BEGIN:STANDARD
TZOFFSETFROM:+0200
TZOFFSETTO:+0100
TZNAME:CET
DTSTART:20271031T010000
END:STANDARD
END:VTIMEZONE
BEGIN:VEVENT
DTSTART;TZID=Europe/Berlin:20260102T000000
DTEND;TZID=Europe/Berlin:20260102T000000
DTSTAMP:20260420T183230
CREATED:20260213T143125Z
LAST-MODIFIED:20260213T143125Z
UID:2054-1767312000-1767312000@britter.de
SUMMARY:Jannn
DESCRIPTION:
URL:http://britter.de/event/jannn-4/
END:VEVENT
BEGIN:VEVENT
DTSTART;TZID=Europe/Berlin:20260110T000000
DTEND;TZID=Europe/Berlin:20260110T000000
DTSTAMP:20260420T183230
CREATED:20260213T143125Z
LAST-MODIFIED:20260213T143125Z
UID:2055-1768003200-1768003200@britter.de
SUMMARY:Prinz
DESCRIPTION:
URL:http://britter.de/event/prinz-4/
END:VEVENT
BEGIN:VEVENT
DTSTART;TZID=Europe/Berlin:20260113T000000
DTEND;TZID=Europe/Berlin:20260113T000000
DTSTAMP:20260420T183230
CREATED:20260213T143126Z
LAST-MODIFIED:20260213T143126Z
UID:2056-1768262400-1768262400@britter.de
SUMMARY:Grit
DESCRIPTION:
URL:http://britter.de/event/grit-4/
END:VEVENT
BEGIN:VEVENT
DTSTART;TZID=Europe/Berlin:20260115T000000
DTEND;TZID=Europe/Berlin:20260115T000000
DTSTAMP:20260420T183230
CREATED:20260213T143126Z
LAST-MODIFIED:20260213T143126Z
UID:2057-1768435200-1768435200@britter.de
SUMMARY:Henne
DESCRIPTION:
URL:http://britter.de/event/henne-4/
END:VEVENT
BEGIN:VEVENT
DTSTART;TZID=Europe/Berlin:20260122T000000
DTEND;TZID=Europe/Berlin:20260122T000000
DTSTAMP:20260420T183230
CREATED:20260213T143126Z
LAST-MODIFIED:20260213T143126Z
UID:2058-1769040000-1769040000@britter.de
SUMMARY:Ulli
DESCRIPTION:
URL:http://britter.de/event/ulli-4/
END:VEVENT
BEGIN:VEVENT
DTSTART;TZID=Europe/Berlin:20260123T000000
DTEND;TZID=Europe/Berlin:20260123T000000
DTSTAMP:20260420T183230
CREATED:20260213T143128Z
LAST-MODIFIED:20260213T143130Z
UID:2059-1769126400-1769126400@britter.de
SUMMARY:Annett
DESCRIPTION:
URL:http://britter.de/event/annett-4/
END:VEVENT
BEGIN:VEVENT
DTSTART;TZID=Europe/Berlin:20260127T000000
DTEND;TZID=Europe/Berlin:20260127T000000
DTSTAMP:20260420T183230
CREATED:20260213T143128Z
LAST-MODIFIED:20260213T143130Z
UID:2060-1769472000-1769472000@britter.de
SUMMARY:Jörg
DESCRIPTION:
URL:http://britter.de/event/joerg-4/
END:VEVENT
END:VCALENDAR