BEGIN:VCALENDAR
VERSION:2.0
PRODID:-//USIPlus - ECPv6.15.20//NONSGML v1.0//EN
CALSCALE:GREGORIAN
METHOD:PUBLISH
X-WR-CALNAME:USIPlus
X-ORIGINAL-URL:http://britter.de
X-WR-CALDESC:Veranstaltungen für USIPlus
REFRESH-INTERVAL;VALUE=DURATION:PT1H
X-Robots-Tag:noindex
X-PUBLISHED-TTL:PT1H
BEGIN:VTIMEZONE
TZID:Europe/Berlin
BEGIN:DAYLIGHT
TZOFFSETFROM:+0100
TZOFFSETTO:+0200
TZNAME:CEST
DTSTART:20250330T010000
END:DAYLIGHT
BEGIN:STANDARD
TZOFFSETFROM:+0200
TZOFFSETTO:+0100
TZNAME:CET
DTSTART:20251026T010000
END:STANDARD
BEGIN:DAYLIGHT
TZOFFSETFROM:+0100
TZOFFSETTO:+0200
TZNAME:CEST
DTSTART:20260329T010000
END:DAYLIGHT
BEGIN:STANDARD
TZOFFSETFROM:+0200
TZOFFSETTO:+0100
TZNAME:CET
DTSTART:20261025T010000
END:STANDARD
BEGIN:DAYLIGHT
TZOFFSETFROM:+0100
TZOFFSETTO:+0200
TZNAME:CEST
DTSTART:20270328T010000
END:DAYLIGHT
BEGIN:STANDARD
TZOFFSETFROM:+0200
TZOFFSETTO:+0100
TZNAME:CET
DTSTART:20271031T010000
END:STANDARD
END:VTIMEZONE
BEGIN:VEVENT
DTSTART;TZID=Europe/Berlin:20260705T000000
DTEND;TZID=Europe/Berlin:20260705T000000
DTSTAMP:20260420T185256
CREATED:20260213T143159Z
LAST-MODIFIED:20260213T143159Z
UID:2077-1783209600-1783209600@britter.de
SUMMARY:Franka
DESCRIPTION:
URL:http://britter.de/event/franka-4/
END:VEVENT
BEGIN:VEVENT
DTSTART;TZID=Europe/Berlin:20260714T000000
DTEND;TZID=Europe/Berlin:20260714T000000
DTSTAMP:20260420T185256
CREATED:20260213T143159Z
LAST-MODIFIED:20260213T143159Z
UID:2076-1783987200-1783987200@britter.de
SUMMARY:Pornthip
DESCRIPTION:
URL:http://britter.de/event/pornthip-4/
END:VEVENT
BEGIN:VEVENT
DTSTART;TZID=Europe/Berlin:20260731T000000
DTEND;TZID=Europe/Berlin:20260731T000000
DTSTAMP:20260420T185256
CREATED:20260213T143200Z
LAST-MODIFIED:20260213T143200Z
UID:2078-1785456000-1785456000@britter.de
SUMMARY:Steffen(kleiner Frosch)
DESCRIPTION:
URL:http://britter.de/event/steffenkleiner-frosch-4/
END:VEVENT
END:VCALENDAR